BEGIN:VCALENDAR
VERSION:2.0
PRODID:-//CNMT - ECPv6.15.20//NONSGML v1.0//EN
CALSCALE:GREGORIAN
METHOD:PUBLISH
X-WR-CALNAME:CNMT
X-ORIGINAL-URL:https://www.cnmt.fr
X-WR-CALDESC:Évènements pour CNMT
REFRESH-INTERVAL;VALUE=DURATION:PT1H
X-Robots-Tag:noindex
X-PUBLISHED-TTL:PT1H
BEGIN:VTIMEZONE
TZID:Europe/Paris
BEGIN:DAYLIGHT
TZOFFSETFROM:+0100
TZOFFSETTO:+0200
TZNAME:CEST
DTSTART:20230326T010000
END:DAYLIGHT
BEGIN:STANDARD
TZOFFSETFROM:+0200
TZOFFSETTO:+0100
TZNAME:CET
DTSTART:20231029T010000
END:STANDARD
BEGIN:DAYLIGHT
TZOFFSETFROM:+0100
TZOFFSETTO:+0200
TZNAME:CEST
DTSTART:20240331T010000
END:DAYLIGHT
BEGIN:STANDARD
TZOFFSETFROM:+0200
TZOFFSETTO:+0100
TZNAME:CET
DTSTART:20241027T010000
END:STANDARD
BEGIN:DAYLIGHT
TZOFFSETFROM:+0100
TZOFFSETTO:+0200
TZNAME:CEST
DTSTART:20250330T010000
END:DAYLIGHT
BEGIN:STANDARD
TZOFFSETFROM:+0200
TZOFFSETTO:+0100
TZNAME:CET
DTSTART:20251026T010000
END:STANDARD
END:VTIMEZONE
BEGIN:VEVENT
DTSTART;TZID=Europe/Paris:20241107T173000
DTEND;TZID=Europe/Paris:20241107T200000
DTSTAMP:20260420T132736
CREATED:20240723T130113Z
LAST-MODIFIED:20240723T130113Z
UID:19770-1731000600-1731009600@www.cnmt.fr
SUMMARY:Formation permis plaisance option hauturière
DESCRIPTION:
URL:https://www.cnmt.fr/evenement/formation-permis-plaisance-option-hauturiere-6/
LOCATION:Salle de formation – Club Zone sud\, TOULON\, France
CATEGORIES:Formation
END:VEVENT
BEGIN:VEVENT
DTSTART;TZID=Europe/Paris:20241108T140000
DTEND;TZID=Europe/Paris:20241108T150000
DTSTAMP:20260420T132736
CREATED:20241030T114311Z
LAST-MODIFIED:20241030T114311Z
UID:20784-1731074400-1731078000@www.cnmt.fr
SUMMARY:Etablissement devis AUDIOVISUEL
DESCRIPTION:Emmanuel GUYETAND\, Président de la Commission COMMUNICATION-INFORMATION. \nDevis pour la rénovation Audiovisuel des salle de réunion et Club House.
URL:https://www.cnmt.fr/evenement/etablissement-devis-audiovisuel/
LOCATION:Club House
CATEGORIES:CLUB HOUSE,Salle de réunion
END:VEVENT
BEGIN:VEVENT
DTSTART;TZID=Europe/Paris:20241112T140000
DTEND;TZID=Europe/Paris:20241112T180000
DTSTAMP:20260420T132736
CREATED:20241023T204827Z
LAST-MODIFIED:20241023T204827Z
UID:20689-1731420000-1731434400@www.cnmt.fr
SUMMARY:Cours de matelotage
DESCRIPTION:
URL:https://www.cnmt.fr/evenement/cours-de-matelotage/
LOCATION:Salle de formation – Club Zone sud\, TOULON\, France
CATEGORIES:Formation
END:VEVENT
BEGIN:VEVENT
DTSTART;TZID=Europe/Paris:20241114T080000
DTEND;TZID=Europe/Paris:20241114T170000
DTSTAMP:20260420T132736
CREATED:20240909T141527Z
LAST-MODIFIED:20240909T141527Z
UID:20178-1731571200-1731603600@www.cnmt.fr
SUMMARY:Blessés de la Défense – Journée nautique au profit de la Maison Athos (Toulon)
DESCRIPTION:
URL:https://www.cnmt.fr/evenement/blesses-de-la-defense-journee-nautique-au-profit-de-la-maison-athos-toulon-3/
CATEGORIES:Blessés de la Défense
END:VEVENT
BEGIN:VEVENT
DTSTART;TZID=Europe/Paris:20241114T173000
DTEND;TZID=Europe/Paris:20241114T200000
DTSTAMP:20260420T132736
CREATED:20240723T130202Z
LAST-MODIFIED:20240723T130202Z
UID:19772-1731605400-1731614400@www.cnmt.fr
SUMMARY:Formation permis plaisance option hauturière
DESCRIPTION:
URL:https://www.cnmt.fr/evenement/formation-permis-plaisance-option-hauturiere-7/
LOCATION:Salle de formation – Club Zone sud\, TOULON\, France
CATEGORIES:Formation
END:VEVENT
BEGIN:VEVENT
DTSTART;TZID=Europe/Paris:20241115T140000
DTEND;TZID=Europe/Paris:20241115T180000
DTSTAMP:20260420T132736
CREATED:20240826T151236Z
LAST-MODIFIED:20240826T151236Z
UID:20082-1731679200-1731693600@www.cnmt.fr
SUMMARY:Formation permis eaux intérieures
DESCRIPTION:
URL:https://www.cnmt.fr/evenement/formation-permis-eaux-interieures/
LOCATION:Salle de formation – Club Zone sud\, TOULON\, France
CATEGORIES:Formation
END:VEVENT
BEGIN:VEVENT
DTSTART;TZID=Europe/Paris:20241116T080000
DTEND;TZID=Europe/Paris:20241116T170000
DTSTAMP:20260420T132736
CREATED:20240826T151323Z
LAST-MODIFIED:20240826T151323Z
UID:20084-1731744000-1731776400@www.cnmt.fr
SUMMARY:Formation permis eaux intérieures
DESCRIPTION:
URL:https://www.cnmt.fr/evenement/formation-permis-eaux-interieures-2/
LOCATION:Salle de formation – Club Zone sud\, TOULON\, France
CATEGORIES:Formation
END:VEVENT
BEGIN:VEVENT
DTSTART;TZID=Europe/Paris:20241119T140000
DTEND;TZID=Europe/Paris:20241119T180000
DTSTAMP:20260420T132736
CREATED:20241023T205001Z
LAST-MODIFIED:20241023T205001Z
UID:20691-1732024800-1732039200@www.cnmt.fr
SUMMARY:Cours de matelotage
DESCRIPTION:
URL:https://www.cnmt.fr/evenement/cours-de-matelotage-2/
LOCATION:Salle de formation – Club Zone sud\, TOULON\, France
CATEGORIES:Formation
END:VEVENT
BEGIN:VEVENT
DTSTART;VALUE=DATE:20241120
DTEND;VALUE=DATE:20241122
DTSTAMP:20260420T132736
CREATED:20240222T130416Z
LAST-MODIFIED:20240222T130416Z
UID:16861-1732060800-1732233599@www.cnmt.fr
SUMMARY:Blessés de la Défense - Journées nautiques au profit du Département Blessés Militaires et Sport (CNSD)
DESCRIPTION:
URL:https://www.cnmt.fr/evenement/blesses-de-la-defense-journees-nautiques-au-profit-du-departement-blesses-militaires-et-sport-cnsd-9/
CATEGORIES:Blessés de la Défense
END:VEVENT
BEGIN:VEVENT
DTSTART;TZID=Europe/Paris:20241121T173000
DTEND;TZID=Europe/Paris:20241121T200000
DTSTAMP:20260420T132736
CREATED:20240723T130246Z
LAST-MODIFIED:20240723T130246Z
UID:19774-1732210200-1732219200@www.cnmt.fr
SUMMARY:Formation permis plaisance option hauturière
DESCRIPTION:
URL:https://www.cnmt.fr/evenement/formation-permis-plaisance-option-hauturiere-8/
LOCATION:Salle de formation – Club Zone sud\, TOULON\, France
CATEGORIES:Formation
END:VEVENT
BEGIN:VEVENT
DTSTART;TZID=Europe/Paris:20241121T190000
DTEND;TZID=Europe/Paris:20241121T210000
DTSTAMP:20260420T132736
CREATED:20241028T103123Z
LAST-MODIFIED:20241028T103217Z
UID:20773-1732215600-1732222800@www.cnmt.fr
SUMMARY:CONFÉRENCE : 27 novembre 1942\, le sabordage de la flotte
DESCRIPTION:Conférence 21 novembre : le sabordage de la Flotte
URL:https://www.cnmt.fr/evenement/conference-27-novembre-1942-le-sabordage-de-la-flotte/
LOCATION:Club House
CATEGORIES:Animation
END:VEVENT
BEGIN:VEVENT
DTSTART;TZID=Europe/Paris:20241122T140000
DTEND;TZID=Europe/Paris:20241122T180000
DTSTAMP:20260420T132736
CREATED:20240826T151010Z
LAST-MODIFIED:20240826T151010Z
UID:20078-1732284000-1732298400@www.cnmt.fr
SUMMARY:Formation au certificat restreint de radiotéléphoniste (CRR)
DESCRIPTION:
URL:https://www.cnmt.fr/evenement/formation-au-certificat-restreint-de-radiotelephoniste-crr-5/
LOCATION:Salle de formation – Club Zone sud\, TOULON\, France
CATEGORIES:Formation
END:VEVENT
BEGIN:VEVENT
DTSTART;TZID=Europe/Paris:20241123T080000
DTEND;TZID=Europe/Paris:20241123T170000
DTSTAMP:20260420T132736
CREATED:20240826T151118Z
LAST-MODIFIED:20240826T151118Z
UID:20080-1732348800-1732381200@www.cnmt.fr
SUMMARY:Formation au certificat restreint de radiotéléphoniste (CRR)
DESCRIPTION:
URL:https://www.cnmt.fr/evenement/formation-au-certificat-restreint-de-radiotelephoniste-crr-6/
LOCATION:Salle de formation – Club Zone sud\, TOULON\, France
CATEGORIES:Formation
END:VEVENT
BEGIN:VEVENT
DTSTART;TZID=Europe/Paris:20241128T173000
DTEND;TZID=Europe/Paris:20241128T200000
DTSTAMP:20260420T132736
CREATED:20240723T130333Z
LAST-MODIFIED:20240723T130333Z
UID:19777-1732815000-1732824000@www.cnmt.fr
SUMMARY:Formation permis plaisance option hauturière
DESCRIPTION:
URL:https://www.cnmt.fr/evenement/formation-permis-plaisance-option-hauturiere-9/
LOCATION:Salle de formation – Club Zone sud\, TOULON\, France
CATEGORIES:Formation
END:VEVENT
BEGIN:VEVENT
DTSTART;TZID=Europe/Paris:20241129T140000
DTEND;TZID=Europe/Paris:20241129T180000
DTSTAMP:20260420T132736
CREATED:20240826T151408Z
LAST-MODIFIED:20240826T151408Z
UID:20086-1732888800-1732903200@www.cnmt.fr
SUMMARY:Formation permis eaux intérieures
DESCRIPTION:
URL:https://www.cnmt.fr/evenement/formation-permis-eaux-interieures-3/
LOCATION:Salle de formation – Club Zone sud\, TOULON\, France
CATEGORIES:Formation
END:VEVENT
BEGIN:VEVENT
DTSTART;TZID=Europe/Paris:20241130T080000
DTEND;TZID=Europe/Paris:20241130T170000
DTSTAMP:20260420T132736
CREATED:20240826T151501Z
LAST-MODIFIED:20240826T151501Z
UID:20088-1732953600-1732986000@www.cnmt.fr
SUMMARY:Formation permis eaux intérieures
DESCRIPTION:
URL:https://www.cnmt.fr/evenement/formation-permis-eaux-interieures-4/
LOCATION:Salle de formation – Club Zone sud\, TOULON\, France
CATEGORIES:Formation
END:VEVENT
END:VCALENDAR