BEGIN:VCALENDAR
VERSION:2.0
PRODID:-//CNMT - ECPv6.15.20//NONSGML v1.0//EN
CALSCALE:GREGORIAN
METHOD:PUBLISH
X-ORIGINAL-URL:https://www.cnmt.fr
X-WR-CALDESC:Évènements pour CNMT
REFRESH-INTERVAL;VALUE=DURATION:PT1H
X-Robots-Tag:noindex
X-PUBLISHED-TTL:PT1H
BEGIN:VTIMEZONE
TZID:Europe/Paris
BEGIN:DAYLIGHT
TZOFFSETFROM:+0100
TZOFFSETTO:+0200
TZNAME:CEST
DTSTART:20230326T010000
END:DAYLIGHT
BEGIN:STANDARD
TZOFFSETFROM:+0200
TZOFFSETTO:+0100
TZNAME:CET
DTSTART:20231029T010000
END:STANDARD
BEGIN:DAYLIGHT
TZOFFSETFROM:+0100
TZOFFSETTO:+0200
TZNAME:CEST
DTSTART:20240331T010000
END:DAYLIGHT
BEGIN:STANDARD
TZOFFSETFROM:+0200
TZOFFSETTO:+0100
TZNAME:CET
DTSTART:20241027T010000
END:STANDARD
BEGIN:DAYLIGHT
TZOFFSETFROM:+0100
TZOFFSETTO:+0200
TZNAME:CEST
DTSTART:20250330T010000
END:DAYLIGHT
BEGIN:STANDARD
TZOFFSETFROM:+0200
TZOFFSETTO:+0100
TZNAME:CET
DTSTART:20251026T010000
END:STANDARD
END:VTIMEZONE
BEGIN:VEVENT
DTSTART;TZID=Europe/Paris:20240906T180000
DTEND;TZID=Europe/Paris:20240906T200000
DTSTAMP:20260420T162438
CREATED:20240904T112607Z
LAST-MODIFIED:20240904T112607Z
UID:20123-1725645600-1725652800@www.cnmt.fr
SUMMARY:1er AFTERWORK de la saison sportive
DESCRIPTION:Chers membres\, \nLe Club vous invite à venir partager\, vendredi 06 septembre\, un moment de convivialité autour d’un pot\, bières pression ou softs\, à la fin de la journée dite de travail. \nL’AFTERWORK\, concept venu tout droit des pays anglo-saxons\, est un moment privilégié pour se rencontrer\, échanger\, se détendre et profiter d’un lieu exceptionnel. \nCordialement\, \nLe Directeur
URL:https://www.cnmt.fr/evenement/1er-afterwork-de-la-saison-sportive/
LOCATION:Club House
CATEGORIES:Animation
END:VEVENT
BEGIN:VEVENT
DTSTART;VALUE=DATE:20240911
DTEND;VALUE=DATE:20240913
DTSTAMP:20260420T162438
CREATED:20240222T130338Z
LAST-MODIFIED:20240707T053902Z
UID:16855-1726012800-1726185599@www.cnmt.fr
SUMMARY:Blessés de la Défense - Journées nautiques au profit du Département Blessés Militaires et Sport (CNSD)
DESCRIPTION:Sortie deux jours à Porquerolles
URL:https://www.cnmt.fr/evenement/blesses-de-la-defense-journees-nautiques-au-profit-du-departement-blesses-militaires-et-sport-cnsd-7/
CATEGORIES:Blessés de la Défense
END:VEVENT
BEGIN:VEVENT
DTSTART;TZID=Europe/Paris:20240913T180000
DTEND;TZID=Europe/Paris:20240913T200000
DTSTAMP:20260420T162438
CREATED:20240911T110845Z
LAST-MODIFIED:20240911T110845Z
UID:20180-1726250400-1726257600@www.cnmt.fr
SUMMARY:Allocution de rentrée par le Président et 2nd Afterwork de l'Automne
DESCRIPTION:Chers membres\,\nOui\, le Club nautique aussi a fait sa rentrée pour la nouvelle saison sportive 2024/2025 ! \nTous les membres sont invités à se retrouver le vendredi 13  septembre à 18H00 PRÉCISES devant le Club House où le Président du Club présentera:\n– les grands travaux réalisés ;\n– un résumé de l’activité de l’été ;\n– les évènements connus à venir. \nCette présentation sera suivie d’un pot offert sous sa forme désormais traditionnelle d’afterwork. \nEn espérant vous revoir nombreux à cette occasion. \nLe Directeur
URL:https://www.cnmt.fr/evenement/allocution-de-rentree-par-le-president-et-2nd-afterwork-de-lautomne/
LOCATION:Club House
CATEGORIES:Animation
END:VEVENT
BEGIN:VEVENT
DTSTART;TZID=Europe/Paris:20240919T173000
DTEND;TZID=Europe/Paris:20240919T200000
DTSTAMP:20260420T162438
CREATED:20240723T125625Z
LAST-MODIFIED:20240723T125625Z
UID:19760-1726767000-1726776000@www.cnmt.fr
SUMMARY:Formation permis plaisance option hauturière
DESCRIPTION:
URL:https://www.cnmt.fr/evenement/formation-permis-plaisance-option-hauturiere/
LOCATION:Salle de formation – Club Zone sud\, TOULON\, France
CATEGORIES:Formation
END:VEVENT
BEGIN:VEVENT
DTSTART;TZID=Europe/Paris:20240920T140000
DTEND;TZID=Europe/Paris:20240920T180000
DTSTAMP:20260420T162438
CREATED:20240826T150826Z
LAST-MODIFIED:20240826T150826Z
UID:20074-1726840800-1726855200@www.cnmt.fr
SUMMARY:Formation au certificat restreint de radiotéléphoniste (CRR)
DESCRIPTION:
URL:https://www.cnmt.fr/evenement/formation-au-certificat-restreint-de-radiotelephoniste-crr-3/
LOCATION:Salle de formation – Club Zone sud\, TOULON\, France
CATEGORIES:Formation
END:VEVENT
BEGIN:VEVENT
DTSTART;TZID=Europe/Paris:20240921T080000
DTEND;TZID=Europe/Paris:20240921T170000
DTSTAMP:20260420T162438
CREATED:20240826T150921Z
LAST-MODIFIED:20240826T150921Z
UID:20076-1726905600-1726938000@www.cnmt.fr
SUMMARY:Formation au certificat restreint de radiotéléphoniste (CRR)
DESCRIPTION:
URL:https://www.cnmt.fr/evenement/formation-au-certificat-restreint-de-radiotelephoniste-crr-4/
LOCATION:Salle de formation – Club Zone sud\, TOULON\, France
CATEGORIES:Formation
END:VEVENT
BEGIN:VEVENT
DTSTART;TZID=Europe/Paris:20240925T080000
DTEND;TZID=Europe/Paris:20240929T170000
DTSTAMP:20260420T162438
CREATED:20240909T135725Z
LAST-MODIFIED:20240909T140107Z
UID:20163-1727251200-1727629200@www.cnmt.fr
SUMMARY:Déplacement au Grau du Roi pour le départ de la course MED-MAX
DESCRIPTION:Journées organisées au bénéfice du Département Blessés Militaires et Sports (DBMS) du CNSD\, en partenariat avec Phare40
URL:https://www.cnmt.fr/evenement/deplacement-au-gars-du-roi-pour-le-depart-de-la-course-med-max/
CATEGORIES:Blessés de la Défense
END:VEVENT
BEGIN:VEVENT
DTSTART;TZID=Europe/Paris:20240926T173000
DTEND;TZID=Europe/Paris:20240926T200000
DTSTAMP:20260420T162438
CREATED:20240723T125717Z
LAST-MODIFIED:20240723T125717Z
UID:19762-1727371800-1727380800@www.cnmt.fr
SUMMARY:Formation permis plaisance option hauturière
DESCRIPTION:
URL:https://www.cnmt.fr/evenement/formation-permis-plaisance-option-hauturiere-2/
LOCATION:Salle de formation – Club Zone sud\, TOULON\, France
CATEGORIES:Formation
END:VEVENT
BEGIN:VEVENT
DTSTART;TZID=Europe/Paris:20240926T190000
DTEND;TZID=Europe/Paris:20240926T220000
DTSTAMP:20260420T162438
CREATED:20240908T090331Z
LAST-MODIFIED:20240908T090331Z
UID:20159-1727377200-1727388000@www.cnmt.fr
SUMMARY:CONFERENCE DU 26 SEPTEMBRE : HISTORIQUE DU SOUS-MARIN
DESCRIPTION:CONFERENCE DU 26 SEPTEMBRE : HISTORIQUE DU SOUS-MARIN
URL:https://www.cnmt.fr/evenement/conference-du-26-septembre-historique-du-sous-marin/
LOCATION:Club House
CATEGORIES:Animation
END:VEVENT
BEGIN:VEVENT
DTSTART;TZID=Europe/Paris:20240927T180000
DTEND;TZID=Europe/Paris:20240927T200000
DTSTAMP:20260420T162438
CREATED:20240923T212802Z
LAST-MODIFIED:20240929T212935Z
UID:20371-1727460000-1727467200@www.cnmt.fr
SUMMARY:Dernier AFTERWORK 2024
DESCRIPTION:Chers membres\, \nLe Club vous invite à venir partager\, vendredi 27 septembre\, un moment de convivialité autour d’un pot\, bières pression ou softs\, à la fin de la journée dite de travail.\nEn fonction des conditions météo nous nous retrouverons dans le Club House. \nL’AFTERWORK\, concept venu tout droit des pays anglo-saxons\, est un moment privilégié pour se rencontrer\, échanger\, se détendre et profiter d’un lieu exceptionnel. \nCordialement\, \nLe Directeur
URL:https://www.cnmt.fr/evenement/dernier-afterwork-2024/
LOCATION:Club House
CATEGORIES:Animation
END:VEVENT
BEGIN:VEVENT
DTSTART;VALUE=DATE:20240928
DTEND;VALUE=DATE:20240930
DTSTAMP:20260420T162438
CREATED:20240723T125019Z
LAST-MODIFIED:20240801T091037Z
UID:19756-1727481600-1727654399@www.cnmt.fr
SUMMARY:Formation théorique permis plaisance option côtière
DESCRIPTION:
URL:https://www.cnmt.fr/evenement/formation-theorique-permis-mer-option-cotiere/
LOCATION:CFI Toulon base vie Sainte-Anne
CATEGORIES:Formation
END:VEVENT
BEGIN:VEVENT
DTSTART;TZID=Europe/Paris:20240928T090000
DTEND;TZID=Europe/Paris:20240928T170000
DTSTAMP:20260420T162438
CREATED:20240801T084919Z
LAST-MODIFIED:20240801T085310Z
UID:19973-1727514000-1727542800@www.cnmt.fr
SUMMARY:Formation à la mécanique
DESCRIPTION:
URL:https://www.cnmt.fr/evenement/formation-mecanique/
LOCATION:Devant le hangar des boscos
CATEGORIES:Formation
END:VEVENT
BEGIN:VEVENT
DTSTART;TZID=Europe/Paris:20240929T090000
DTEND;TZID=Europe/Paris:20240929T170000
DTSTAMP:20260420T162438
CREATED:20240801T085028Z
LAST-MODIFIED:20240801T085028Z
UID:19976-1727600400-1727629200@www.cnmt.fr
SUMMARY:Formation à la mécanique
DESCRIPTION:
URL:https://www.cnmt.fr/evenement/formation-a-la-mecanique-3/
LOCATION:Devant le hangar des boscos
CATEGORIES:Formation
END:VEVENT
END:VCALENDAR