BEGIN:VCALENDAR
VERSION:2.0
PRODID:-//CNMT - ECPv6.15.20//NONSGML v1.0//EN
CALSCALE:GREGORIAN
METHOD:PUBLISH
X-ORIGINAL-URL:https://www.cnmt.fr
X-WR-CALDESC:Évènements pour CNMT
REFRESH-INTERVAL;VALUE=DURATION:PT1H
X-Robots-Tag:noindex
X-PUBLISHED-TTL:PT1H
BEGIN:VTIMEZONE
TZID:Europe/Paris
BEGIN:DAYLIGHT
TZOFFSETFROM:+0100
TZOFFSETTO:+0200
TZNAME:CEST
DTSTART:20230326T010000
END:DAYLIGHT
BEGIN:STANDARD
TZOFFSETFROM:+0200
TZOFFSETTO:+0100
TZNAME:CET
DTSTART:20231029T010000
END:STANDARD
BEGIN:DAYLIGHT
TZOFFSETFROM:+0100
TZOFFSETTO:+0200
TZNAME:CEST
DTSTART:20240331T010000
END:DAYLIGHT
BEGIN:STANDARD
TZOFFSETFROM:+0200
TZOFFSETTO:+0100
TZNAME:CET
DTSTART:20241027T010000
END:STANDARD
BEGIN:DAYLIGHT
TZOFFSETFROM:+0100
TZOFFSETTO:+0200
TZNAME:CEST
DTSTART:20250330T010000
END:DAYLIGHT
BEGIN:STANDARD
TZOFFSETFROM:+0200
TZOFFSETTO:+0100
TZNAME:CET
DTSTART:20251026T010000
END:STANDARD
END:VTIMEZONE
BEGIN:VEVENT
DTSTART;VALUE=DATE:20240605
DTEND;VALUE=DATE:20240607
DTSTAMP:20260420T204450
CREATED:20240222T130243Z
LAST-MODIFIED:20240222T130243Z
UID:16853-1717545600-1717718399@www.cnmt.fr
SUMMARY:Blessés de la Défense - Journées nautiques au profit du Département Blessés Militaires et Sport (CNSD)
DESCRIPTION:
URL:https://www.cnmt.fr/evenement/blesses-de-la-defense-journees-nautiques-au-profit-du-departement-blesses-militaires-et-sport-cnsd-6/
CATEGORIES:Blessés de la Défense
END:VEVENT
BEGIN:VEVENT
DTSTART;TZID=Europe/Paris:20240607T180000
DTEND;TZID=Europe/Paris:20240607T200000
DTSTAMP:20260420T204450
CREATED:20240601T084052Z
LAST-MODIFIED:20240601T084052Z
UID:19273-1717783200-1717790400@www.cnmt.fr
SUMMARY:Second "afterwork" de la saison.
DESCRIPTION:Venez partager un moment de détente\, fait aussi de rencontres et d’échanges en dégustant une « pression » sur la terrasse du Club House. Accueil\, sans réservation\, à partir de 18h00 et jusqu’à 20h00.\nDépassé par le succès du 1er afterwork de la saison\, il a manqué de vivres! Cela ne se reproduira pas !!!!
URL:https://www.cnmt.fr/evenement/second-afterwork-de-la-saison/
LOCATION:Club House
CATEGORIES:Animation
END:VEVENT
BEGIN:VEVENT
DTSTART;TZID=Europe/Paris:20240608T090000
DTEND;TZID=Europe/Paris:20240608T120000
DTSTAMP:20260420T204450
CREATED:20240601T084331Z
LAST-MODIFIED:20240601T084331Z
UID:19275-1717837200-1717848000@www.cnmt.fr
SUMMARY:Journée "Bleue" - dépollution des fonds marins.
DESCRIPTION:Cette journée s’inscrit dans le dispositif « rade propre » et a pour objectif le nettoyage des fonds de notre plan d’eau. \nLes mouvements portuaires des bateaux de membres et croiseurs du Club\, en arrivée comme en départ\, seront interdits de 09h15 à 11h45. \nLe Club Sportif « Plongée » assurera la partie aquatique de la tâche (trouvailles & remontées de déchets).\nNous recherchons une petite dizaine de bénévoles pour assister les plongeurs sur les berges et pontons afin de récupérer les déchets et les mettre dans des bennes qui seront disposées dans le Club. \nPar ailleurs\, traditionnellement\, cette matinée est aussi l’occasion de nettoyer certaines zones du Club et d’entretenir les trophées qui ornent le Club House. Nous recherchons une autre dizaine de membres bénévoles pour se charger de ces deux missions. Merci aux volontaires pour ces activités de se faire connaître avant vendredi 7 juin 12h00 à l’adresse mail secretariat@cnmt.fr. L’encadrement de ces deux équipes de bénévoles sera réalisé par notre excellente équipe « Attila ».\nLes deux équipes de volontaires pourront prendre leur déjeuner\, tiré du sac\, en compagnie des plongeurs sur le site Sud du Club.
URL:https://www.cnmt.fr/evenement/journee-bleue-depollution-des-fonds-marins/
CATEGORIES:Animation
END:VEVENT
BEGIN:VEVENT
DTSTART;TZID=Europe/Paris:20240613T090000
DTEND;TZID=Europe/Paris:20240613T170000
DTSTAMP:20260420T204450
CREATED:20240405T141955Z
LAST-MODIFIED:20240405T141955Z
UID:18671-1718269200-1718298000@www.cnmt.fr
SUMMARY:Blessés de la Défense - Journée nautique organisée au bénéfice de l'Institut des Invalides de la Légion Étrangère (IILE)
DESCRIPTION:
URL:https://www.cnmt.fr/evenement/blesses-de-la-defense-journee-nautique-organisee-au-benefice-de-linstitut-des-invalides-de-la-legion-etrangere-iile/
LOCATION:Club House
END:VEVENT
BEGIN:VEVENT
DTSTART;TZID=Europe/Paris:20240614T180000
DTEND;TZID=Europe/Paris:20240614T200000
DTSTAMP:20260420T204450
CREATED:20240601T084442Z
LAST-MODIFIED:20240601T084442Z
UID:19277-1718388000-1718395200@www.cnmt.fr
SUMMARY:Troisième "afterwork" de la saison
DESCRIPTION:Venez partager un moment de détente\, fait aussi de rencontres et d’échanges en dégustant une « pression » sur la terrasse du Club House.
URL:https://www.cnmt.fr/evenement/troisieme-afterwork-de-la-saison/
LOCATION:Club House
CATEGORIES:Animation
END:VEVENT
BEGIN:VEVENT
DTSTART;TZID=Europe/Paris:20240620T090000
DTEND;TZID=Europe/Paris:20240620T170000
DTSTAMP:20260420T204450
CREATED:20240324T125134Z
LAST-MODIFIED:20240324T125134Z
UID:18479-1718874000-1718902800@www.cnmt.fr
SUMMARY:Blessés de la Défense - Journées nautiques au profit de la Maison Athos (Toulon)
DESCRIPTION:
URL:https://www.cnmt.fr/evenement/blesses-de-la-defense-journees-nautiques-au-profit-de-la-maison-athos-toulon-2/
LOCATION:Club House
END:VEVENT
BEGIN:VEVENT
DTSTART;TZID=Europe/Paris:20240628T180000
DTEND;TZID=Europe/Paris:20240628T200000
DTSTAMP:20260420T204450
CREATED:20240601T084550Z
LAST-MODIFIED:20240601T084550Z
UID:19280-1719597600-1719604800@www.cnmt.fr
SUMMARY:Quatrième "afterwork" de la saison
DESCRIPTION:Venez partager à nouveau moment de détente\, en dégustant une « pression » sur la terrasse du Club House.
URL:https://www.cnmt.fr/evenement/quatrieme-afterwork-de-la-saison/
CATEGORIES:Animation
END:VEVENT
END:VCALENDAR