BEGIN:VCALENDAR
VERSION:2.0
PRODID:-//CNMT - ECPv6.15.20//NONSGML v1.0//EN
CALSCALE:GREGORIAN
METHOD:PUBLISH
X-ORIGINAL-URL:https://www.cnmt.fr
X-WR-CALDESC:Évènements pour CNMT
REFRESH-INTERVAL;VALUE=DURATION:PT1H
X-Robots-Tag:noindex
X-PUBLISHED-TTL:PT1H
BEGIN:VTIMEZONE
TZID:Europe/Paris
BEGIN:DAYLIGHT
TZOFFSETFROM:+0100
TZOFFSETTO:+0200
TZNAME:CEST
DTSTART:20230326T010000
END:DAYLIGHT
BEGIN:STANDARD
TZOFFSETFROM:+0200
TZOFFSETTO:+0100
TZNAME:CET
DTSTART:20231029T010000
END:STANDARD
BEGIN:DAYLIGHT
TZOFFSETFROM:+0100
TZOFFSETTO:+0200
TZNAME:CEST
DTSTART:20240331T010000
END:DAYLIGHT
BEGIN:STANDARD
TZOFFSETFROM:+0200
TZOFFSETTO:+0100
TZNAME:CET
DTSTART:20241027T010000
END:STANDARD
BEGIN:DAYLIGHT
TZOFFSETFROM:+0100
TZOFFSETTO:+0200
TZNAME:CEST
DTSTART:20250330T010000
END:DAYLIGHT
BEGIN:STANDARD
TZOFFSETFROM:+0200
TZOFFSETTO:+0100
TZNAME:CET
DTSTART:20251026T010000
END:STANDARD
END:VTIMEZONE
BEGIN:VEVENT
DTSTART;VALUE=DATE:20240405
DTEND;VALUE=DATE:20240406
DTSTAMP:20260420T233201
CREATED:20240209T074341Z
LAST-MODIFIED:20240209T075823Z
UID:17753-1712275200-1712361599@www.cnmt.fr
SUMMARY:Formation aux bons usages des outils de prévision météorologique
DESCRIPTION:La commission formation organise une formation aux bons usages des outils de prévision météorologique le vendredi 5 avril 2024 de 17H00 à 19H00. Inscription auprès de David Chardebas : davycool83@hotmail.fr
URL:https://www.cnmt.fr/evenement/17753/
LOCATION:Toulon
CATEGORIES:Formation
END:VEVENT
BEGIN:VEVENT
DTSTART;VALUE=DATE:20240406
DTEND;VALUE=DATE:20240408
DTSTAMP:20260420T233201
CREATED:20240209T075354Z
LAST-MODIFIED:20240209T075354Z
UID:17761-1712361600-1712534399@www.cnmt.fr
SUMMARY:Formation à la mécanique
DESCRIPTION:La commission formation organise un stage de formation à la mécanique les samedi 6 et dimanche 7 avril 2024 de 09h00 à 12h00 et 14h00 à 17h00. Inscription auprès de Hélène et Maurice LARROQUE : larroque.m@wanadoo.fr
URL:https://www.cnmt.fr/evenement/formation-a-la-mecanique-2/
LOCATION:Toulon
CATEGORIES:Formation
END:VEVENT
BEGIN:VEVENT
DTSTART;TZID=Europe/Paris:20240409T173000
DTEND;TZID=Europe/Paris:20240409T200000
DTSTAMP:20260420T233201
CREATED:20240404T160020Z
LAST-MODIFIED:20240404T160020Z
UID:18666-1712683800-1712692800@www.cnmt.fr
SUMMARY:Conférence : VIRGINIE HÉRIOT\, UNE NAVIGATRICE AU SOMMET DE L'OLYMPE
DESCRIPTION:Par Anne Belaud-de-Saulce\,  \nconservatrice et commissaire de l’exposition du Musée national de la Marine à Port-Louis   \nAu Musée de la Marine de Toulon.
URL:https://www.cnmt.fr/evenement/conference-virginie-heriot-une-navigatrice-au-sommet-de-lolympe/
LOCATION:Musée de la marine à Toulon\, Place Monsenergue\, Quai de Norfolk\, TOULON\, 83000\, France
CATEGORIES:Animation
END:VEVENT
BEGIN:VEVENT
DTSTART;VALUE=DATE:20240415
DTEND;VALUE=DATE:20240417
DTSTAMP:20260420T233201
CREATED:20240209T160058Z
LAST-MODIFIED:20240209T160058Z
UID:17781-1713139200-1713311999@www.cnmt.fr
SUMMARY:Séance de formation à la mécanique
DESCRIPTION:Un stage de formation à la mécanique aura lieu les lundi 15 et mardi 16 avril 2024 de 09h00 à 12h00 et 14h00 à 17h00. Renseignements et inscription : Hélène et Maurice LARROQUE Mail : larroque.m@wanadoo.fr
URL:https://www.cnmt.fr/evenement/seance-de-formation-a-la-mecanique/
CATEGORIES:Formation
END:VEVENT
BEGIN:VEVENT
DTSTART;VALUE=DATE:20240417
DTEND;VALUE=DATE:20240419
DTSTAMP:20260420T233201
CREATED:20240222T130150Z
LAST-MODIFIED:20240222T130150Z
UID:16849-1713312000-1713484799@www.cnmt.fr
SUMMARY:Blessés de la Défense - Journées nautiques au profit du Département Blessés Militaires et Sport (CNSD)
DESCRIPTION:
URL:https://www.cnmt.fr/evenement/blesses-de-la-defense-journees-nautiques-au-profit-du-departement-blesses-militaires-et-sport-cnsd-4/
CATEGORIES:Blessés de la Défense
END:VEVENT
BEGIN:VEVENT
DTSTART;TZID=Europe/Paris:20240420T080000
DTEND;TZID=Europe/Paris:20240420T120000
DTSTAMP:20260420T233201
CREATED:20240320T132812Z
LAST-MODIFIED:20240320T134013Z
UID:18452-1713600000-1713614400@www.cnmt.fr
SUMMARY:Contrôle des extincteurs par la société Eau Feu
DESCRIPTION:Ces contrôles réglementaires seront opérés par la société « EAU’FEU » aux conditions suivantes:\n\n4 € par extincteur ;\ngratuité pour les couvertures « anti-feu » ;\nprevoyez l’appoint.
URL:https://www.cnmt.fr/evenement/controle-des-extincteurs-par-la-societe-eau-feu/
LOCATION:Devant le hangar des boscos
CATEGORIES:Formation
END:VEVENT
END:VCALENDAR