BEGIN:VCALENDAR
VERSION:2.0
PRODID:-//CNMT - ECPv6.15.20//NONSGML v1.0//EN
CALSCALE:GREGORIAN
METHOD:PUBLISH
X-ORIGINAL-URL:https://www.cnmt.fr
X-WR-CALDESC:Évènements pour CNMT
REFRESH-INTERVAL;VALUE=DURATION:PT1H
X-Robots-Tag:noindex
X-PUBLISHED-TTL:PT1H
BEGIN:VTIMEZONE
TZID:Europe/Paris
BEGIN:DAYLIGHT
TZOFFSETFROM:+0100
TZOFFSETTO:+0200
TZNAME:CEST
DTSTART:20230326T010000
END:DAYLIGHT
BEGIN:STANDARD
TZOFFSETFROM:+0200
TZOFFSETTO:+0100
TZNAME:CET
DTSTART:20231029T010000
END:STANDARD
BEGIN:DAYLIGHT
TZOFFSETFROM:+0100
TZOFFSETTO:+0200
TZNAME:CEST
DTSTART:20240331T010000
END:DAYLIGHT
BEGIN:STANDARD
TZOFFSETFROM:+0200
TZOFFSETTO:+0100
TZNAME:CET
DTSTART:20241027T010000
END:STANDARD
BEGIN:DAYLIGHT
TZOFFSETFROM:+0100
TZOFFSETTO:+0200
TZNAME:CEST
DTSTART:20250330T010000
END:DAYLIGHT
BEGIN:STANDARD
TZOFFSETFROM:+0200
TZOFFSETTO:+0100
TZNAME:CET
DTSTART:20251026T010000
END:STANDARD
END:VTIMEZONE
BEGIN:VEVENT
DTSTART;TZID=Europe/Paris:20240305T100000
DTEND;TZID=Europe/Paris:20240305T123000
DTSTAMP:20260421T010236
CREATED:20240304T134208Z
LAST-MODIFIED:20240304T135453Z
UID:18119-1709632800-1709641800@www.cnmt.fr
SUMMARY:Club House et salle de réunion -  E. GUYETAND - TEST1
DESCRIPTION:TTTTTTTTTTTTTTTTTTTTTTTTTTTTT \nRTTTTTTTTTTTTTTTTTTTTTTTTTTTTTT
URL:https://www.cnmt.fr/evenement/reservation-e-guyetand-test1/
CATEGORIES:CLUB HOUSE,Salle de réunion
END:VEVENT
BEGIN:VEVENT
DTSTART;TZID=Europe/Paris:20240305T140000
DTEND;TZID=Europe/Paris:20240305T170000
DTSTAMP:20260421T010236
CREATED:20240304T134344Z
LAST-MODIFIED:20240304T135353Z
UID:18121-1709647200-1709658000@www.cnmt.fr
SUMMARY:Salle de réunion - E.GUYETAND - TEST 2
DESCRIPTION:Réyunion vqkrvk;và;^gis$)à ;$vojçjçàKPCDKO F \nF SEGISI JM ITJAEG0RGJK 0°AFKOC.Q \nRF QP?9EG9E KGOQGQOP G¨GKJ°0O
URL:https://www.cnmt.fr/evenement/reservation-e-guyetand-test-2/
CATEGORIES:Salle de réunion
END:VEVENT
BEGIN:VEVENT
DTSTART;VALUE=DATE:20240308
DTEND;VALUE=DATE:20240310
DTSTAMP:20260421T010236
CREATED:20240209T074801Z
LAST-MODIFIED:20240209T085315Z
UID:17755-1709856000-1710028799@www.cnmt.fr
SUMMARY:Formation au certificat restreint de radiotéléphoniste (CRR)
DESCRIPTION:La commission formation organise une session de préparation à l’examen du Certificat Restreint de Radiotéléphoniste (CRR) les vendredi 8 et samedi 9 mars 2024. Inscription auprès de Jean-Jacques POULEAU : jeanjacques.pouleau@orange.fr\n\nhttps://www.cnmt.fr/blog/formation-au-certificat-restreint-de-radiotelephoniste-crr/
URL:https://www.cnmt.fr/evenement/formation-au-certificat-restreint-de-radiotelephoniste-crr/
LOCATION:Toulon
CATEGORIES:Formation
END:VEVENT
BEGIN:VEVENT
DTSTART;VALUE=DATE:20240311
DTEND;VALUE=DATE:20240313
DTSTAMP:20260421T010236
CREATED:20240209T075119Z
LAST-MODIFIED:20240209T075119Z
UID:17759-1710115200-1710287999@www.cnmt.fr
SUMMARY:Formation à la mécanique
DESCRIPTION:La commission formation organise un stage de formation à la mécanique les lundi 11 et mardi 12 mars 2024 de 09h00 à 12h00 et 14h00 à 17h00. Inscription auprès de Hélène et Maurice LARROQUE : larroque.m@wanadoo.fr
URL:https://www.cnmt.fr/evenement/formation-a-la-mecanique/
LOCATION:Toulon
CATEGORIES:Formation
END:VEVENT
BEGIN:VEVENT
DTSTART;TZID=Europe/Paris:20240311T100000
DTEND;TZID=Europe/Paris:20240311T130000
DTSTAMP:20260421T010236
CREATED:20240309T102140Z
LAST-MODIFIED:20240309T102301Z
UID:18331-1710151200-1710162000@www.cnmt.fr
SUMMARY:Salle de réunion - Réunion T. MEILLOUR
DESCRIPTION:Salle de réunion (ancienne voilerie) – Réunion T.MEILLOUR
URL:https://www.cnmt.fr/evenement/salle-de-reunion-reunion-t-meillour/
CATEGORIES:Salle de réunion
END:VEVENT
BEGIN:VEVENT
DTSTART;VALUE=DATE:20240314
DTEND;VALUE=DATE:20240315
DTSTAMP:20260421T010236
CREATED:20240222T125914Z
LAST-MODIFIED:20240222T130007Z
UID:17426-1710374400-1710460799@www.cnmt.fr
SUMMARY:Blessés de La Défense - Journée au bénéfice de la Maison Athos
DESCRIPTION:
URL:https://www.cnmt.fr/evenement/blesses-de-la-defense-journee-au-benefice-de-la-maison-athos/
LOCATION:Toulon
CATEGORIES:Blessés de la Défense
END:VEVENT
BEGIN:VEVENT
DTSTART;VALUE=DATE:20240315
DTEND;VALUE=DATE:20240317
DTSTAMP:20260421T010236
CREATED:20240209T073140Z
LAST-MODIFIED:20240209T073140Z
UID:17747-1710460800-1710633599@www.cnmt.fr
SUMMARY:Formation au permis plaisance option eaux intérieures
DESCRIPTION:La commission formation organise une session de formation au permis plaisance option eaux intérieures les vendredi 15 et samedi 16 mars 2024. Date limite d’inscription : vendredi 8 mars auprès de jeanjacques.pouleau@orange.fr
URL:https://www.cnmt.fr/evenement/formation-au-permis-plaisance-option-eaux-interieures/
LOCATION:Toulon
CATEGORIES:Formation
END:VEVENT
BEGIN:VEVENT
DTSTART;TZID=Europe/Paris:20240316T080000
DTEND;TZID=Europe/Paris:20240317T193000
DTSTAMP:20260421T010236
CREATED:20240311T102533Z
LAST-MODIFIED:20240317T102817Z
UID:18441-1710576000-1710703800@www.cnmt.fr
SUMMARY:14ème Coupe Monotype Toulon - J80 - 2024
DESCRIPTION:
URL:https://www.cnmt.fr/evenement/14eme-coupe-monotype-toulon-j80-2024/
CATEGORIES:Régates
END:VEVENT
BEGIN:VEVENT
DTSTART;VALUE=DATE:20240320
DTEND;VALUE=DATE:20240322
DTSTAMP:20260421T010236
CREATED:20240222T130051Z
LAST-MODIFIED:20240222T130051Z
UID:16847-1710892800-1711065599@www.cnmt.fr
SUMMARY:Blessés de la Défense - Journées nautiques au profit du Département Blessés Militaires et Sport (CNSD)
DESCRIPTION:
URL:https://www.cnmt.fr/evenement/blesses-de-la-defense-journees-nautiques-au-profit-du-departement-blesses-militaires-et-sport-cnsd-3/
CATEGORIES:Blessés de la Défense
END:VEVENT
BEGIN:VEVENT
DTSTART;VALUE=DATE:20240322
DTEND;VALUE=DATE:20240323
DTSTAMP:20260421T010236
CREATED:20240209T074232Z
LAST-MODIFIED:20240209T074232Z
UID:17751-1711065600-1711151999@www.cnmt.fr
SUMMARY:Formation aux bons usages des outils de prévision météorologique
DESCRIPTION:La commission formation organise une formation aux bons usages des outils de prévision météorologique le vendredi 22 mars 2024 de 17H00 à 19H00. Inscription auprès de David Chardebas : davycool83@hotmail.fr
URL:https://www.cnmt.fr/evenement/formation-aux-bons-usages-des-outils-de-prevision-meteorologique/
LOCATION:Toulon
CATEGORIES:Formation
END:VEVENT
BEGIN:VEVENT
DTSTART;VALUE=DATE:20240329
DTEND;VALUE=DATE:20240331
DTSTAMP:20260421T010236
CREATED:20240209T073739Z
LAST-MODIFIED:20240209T073739Z
UID:17749-1711670400-1711843199@www.cnmt.fr
SUMMARY:Formation au permis plaisance option eaux intérieures
DESCRIPTION:La commission formation organise une session de formation au permis plaisance option eaux intérieures les vendredi 29 et samedi 30 mars 2024. Inscription auprès de Jean-Jacques POULEAU : jeanjacques.pouleau@orange.fr
URL:https://www.cnmt.fr/evenement/formation-au-permis-plaisance-option-eaux-interieures-2/
LOCATION:Toulon
CATEGORIES:Formation
END:VEVENT
END:VCALENDAR