BEGIN:VCALENDAR
VERSION:2.0
PRODID:-//CNMT - ECPv6.15.20//NONSGML v1.0//EN
CALSCALE:GREGORIAN
METHOD:PUBLISH
X-WR-CALNAME:CNMT
X-ORIGINAL-URL:https://www.cnmt.fr
X-WR-CALDESC:Évènements pour CNMT
REFRESH-INTERVAL;VALUE=DURATION:PT1H
X-Robots-Tag:noindex
X-PUBLISHED-TTL:PT1H
BEGIN:VTIMEZONE
TZID:Europe/Paris
BEGIN:DAYLIGHT
TZOFFSETFROM:+0100
TZOFFSETTO:+0200
TZNAME:CEST
DTSTART:20240331T010000
END:DAYLIGHT
BEGIN:STANDARD
TZOFFSETFROM:+0200
TZOFFSETTO:+0100
TZNAME:CET
DTSTART:20241027T010000
END:STANDARD
BEGIN:DAYLIGHT
TZOFFSETFROM:+0100
TZOFFSETTO:+0200
TZNAME:CEST
DTSTART:20250330T010000
END:DAYLIGHT
BEGIN:STANDARD
TZOFFSETFROM:+0200
TZOFFSETTO:+0100
TZNAME:CET
DTSTART:20251026T010000
END:STANDARD
BEGIN:DAYLIGHT
TZOFFSETFROM:+0100
TZOFFSETTO:+0200
TZNAME:CEST
DTSTART:20260329T010000
END:DAYLIGHT
BEGIN:STANDARD
TZOFFSETFROM:+0200
TZOFFSETTO:+0100
TZNAME:CET
DTSTART:20261025T010000
END:STANDARD
END:VTIMEZONE
BEGIN:VEVENT
DTSTART;TZID=Europe/Paris:20250127T100000
DTEND;TZID=Europe/Paris:20250127T140000
DTSTAMP:20260420T102231
CREATED:20241026T083702Z
LAST-MODIFIED:20241120T172650Z
UID:20737-1737972000-1737986400@www.cnmt.fr
SUMMARY:Assemblée Annuelle 2025 à l'Escale Amiral Ronarc'h
DESCRIPTION:
URL:https://www.cnmt.fr/evenement/assemblee-annuelle-2025-a-lescale-amiral-ronarch/
LOCATION:Escale Amiral Ronarc’h\, 1 Av. Amiral Aube\, Toulon\, 83000\, France
CATEGORIES:Assemblée Générale
END:VEVENT
END:VCALENDAR