BEGIN:VCALENDAR
VERSION:2.0
PRODID:-//CNMT - ECPv6.15.20//NONSGML v1.0//EN
CALSCALE:GREGORIAN
METHOD:PUBLISH
X-WR-CALNAME:CNMT
X-ORIGINAL-URL:https://www.cnmt.fr
X-WR-CALDESC:Évènements pour CNMT
REFRESH-INTERVAL;VALUE=DURATION:PT1H
X-Robots-Tag:noindex
X-PUBLISHED-TTL:PT1H
BEGIN:VTIMEZONE
TZID:Europe/Paris
BEGIN:DAYLIGHT
TZOFFSETFROM:+0100
TZOFFSETTO:+0200
TZNAME:CEST
DTSTART:20240331T010000
END:DAYLIGHT
BEGIN:STANDARD
TZOFFSETFROM:+0200
TZOFFSETTO:+0100
TZNAME:CET
DTSTART:20241027T010000
END:STANDARD
BEGIN:DAYLIGHT
TZOFFSETFROM:+0100
TZOFFSETTO:+0200
TZNAME:CEST
DTSTART:20250330T010000
END:DAYLIGHT
BEGIN:STANDARD
TZOFFSETFROM:+0200
TZOFFSETTO:+0100
TZNAME:CET
DTSTART:20251026T010000
END:STANDARD
BEGIN:DAYLIGHT
TZOFFSETFROM:+0100
TZOFFSETTO:+0200
TZNAME:CEST
DTSTART:20260329T010000
END:DAYLIGHT
BEGIN:STANDARD
TZOFFSETFROM:+0200
TZOFFSETTO:+0100
TZNAME:CET
DTSTART:20261025T010000
END:STANDARD
END:VTIMEZONE
BEGIN:VEVENT
DTSTART;TZID=Europe/Paris:20250123T080000
DTEND;TZID=Europe/Paris:20250124T170000
DTSTAMP:20260420T120859
CREATED:20240821T165420Z
LAST-MODIFIED:20240821T170116Z
UID:20021-1737619200-1737738000@www.cnmt.fr
SUMMARY:Blessés de la Défense – Journées nautiques au profit du Département Blessés Militaires et Sport (CNSD)
DESCRIPTION:
URL:https://www.cnmt.fr/evenement/blesses-de-la-defense-journees-nautiques-au-profit-du-departement-blesses-militaires-et-sport-cnsd-11/
CATEGORIES:Blessés de la Défense
END:VEVENT
BEGIN:VEVENT
DTSTART;TZID=Europe/Paris:20250124T140000
DTEND;TZID=Europe/Paris:20250124T160000
DTSTAMP:20260420T120859
CREATED:20250123T090713Z
LAST-MODIFIED:20250123T090713Z
UID:21383-1737727200-1737734400@www.cnmt.fr
SUMMARY:Réunion TPR 2025 avec MTPM
DESCRIPTION:
URL:https://www.cnmt.fr/evenement/reunion-tpr-2025-avec-mtpm/
CATEGORIES:Salle de réunion
END:VEVENT
END:VCALENDAR