BEGIN:VCALENDAR
VERSION:2.0
PRODID:-//CNMT - ECPv6.15.20//NONSGML v1.0//EN
CALSCALE:GREGORIAN
METHOD:PUBLISH
X-ORIGINAL-URL:https://www.cnmt.fr
X-WR-CALDESC:Évènements pour CNMT
REFRESH-INTERVAL;VALUE=DURATION:PT1H
X-Robots-Tag:noindex
X-PUBLISHED-TTL:PT1H
BEGIN:VTIMEZONE
TZID:Europe/Paris
BEGIN:DAYLIGHT
TZOFFSETFROM:+0100
TZOFFSETTO:+0200
TZNAME:CEST
DTSTART:20230326T010000
END:DAYLIGHT
BEGIN:STANDARD
TZOFFSETFROM:+0200
TZOFFSETTO:+0100
TZNAME:CET
DTSTART:20231029T010000
END:STANDARD
BEGIN:DAYLIGHT
TZOFFSETFROM:+0100
TZOFFSETTO:+0200
TZNAME:CEST
DTSTART:20240331T010000
END:DAYLIGHT
BEGIN:STANDARD
TZOFFSETFROM:+0200
TZOFFSETTO:+0100
TZNAME:CET
DTSTART:20241027T010000
END:STANDARD
BEGIN:DAYLIGHT
TZOFFSETFROM:+0100
TZOFFSETTO:+0200
TZNAME:CEST
DTSTART:20250330T010000
END:DAYLIGHT
BEGIN:STANDARD
TZOFFSETFROM:+0200
TZOFFSETTO:+0100
TZNAME:CET
DTSTART:20251026T010000
END:STANDARD
END:VTIMEZONE
BEGIN:VEVENT
DTSTART;TZID=Europe/Paris:20240607T180000
DTEND;TZID=Europe/Paris:20240607T200000
DTSTAMP:20260420T220340
CREATED:20240601T084052Z
LAST-MODIFIED:20240601T084052Z
UID:19273-1717783200-1717790400@www.cnmt.fr
SUMMARY:Second "afterwork" de la saison.
DESCRIPTION:Venez partager un moment de détente\, fait aussi de rencontres et d’échanges en dégustant une « pression » sur la terrasse du Club House. Accueil\, sans réservation\, à partir de 18h00 et jusqu’à 20h00.\nDépassé par le succès du 1er afterwork de la saison\, il a manqué de vivres! Cela ne se reproduira pas !!!!
URL:https://www.cnmt.fr/evenement/second-afterwork-de-la-saison/
LOCATION:Club House
CATEGORIES:Animation
END:VEVENT
END:VCALENDAR