BEGIN:VCALENDAR
VERSION:2.0
PRODID:-//CNMT - ECPv6.15.20//NONSGML v1.0//EN
CALSCALE:GREGORIAN
METHOD:PUBLISH
X-ORIGINAL-URL:https://www.cnmt.fr
X-WR-CALDESC:Évènements pour CNMT
REFRESH-INTERVAL;VALUE=DURATION:PT1H
X-Robots-Tag:noindex
X-PUBLISHED-TTL:PT1H
BEGIN:VTIMEZONE
TZID:Europe/Paris
BEGIN:DAYLIGHT
TZOFFSETFROM:+0100
TZOFFSETTO:+0200
TZNAME:CEST
DTSTART:20230326T010000
END:DAYLIGHT
BEGIN:STANDARD
TZOFFSETFROM:+0200
TZOFFSETTO:+0100
TZNAME:CET
DTSTART:20231029T010000
END:STANDARD
BEGIN:DAYLIGHT
TZOFFSETFROM:+0100
TZOFFSETTO:+0200
TZNAME:CEST
DTSTART:20240331T010000
END:DAYLIGHT
BEGIN:STANDARD
TZOFFSETFROM:+0200
TZOFFSETTO:+0100
TZNAME:CET
DTSTART:20241027T010000
END:STANDARD
BEGIN:DAYLIGHT
TZOFFSETFROM:+0100
TZOFFSETTO:+0200
TZNAME:CEST
DTSTART:20250330T010000
END:DAYLIGHT
BEGIN:STANDARD
TZOFFSETFROM:+0200
TZOFFSETTO:+0100
TZNAME:CET
DTSTART:20251026T010000
END:STANDARD
END:VTIMEZONE
BEGIN:VEVENT
DTSTART;TZID=Europe/Paris:20240223T180000
DTEND;TZID=Europe/Paris:20240223T200000
DTSTAMP:20260421T035058
CREATED:20240221T221236Z
LAST-MODIFIED:20240221T222056Z
UID:17893-1708711200-1708718400@www.cnmt.fr
SUMMARY:TOULON PROVENCE REGATTA 2024 : Réunion des bénévoles
DESCRIPTION:Une réunion d’information pour les bénévoles (détails des postes à pourvoir à terre ou en mer) aura lieu au palais Neptune de Toulon\, le vendredi 23 février à 18h00. Accès par l’entrée place Besagne (centre Mayol)\, salle de réunion Colbert au premier étage.
URL:https://www.cnmt.fr/evenement/toulon-provence-regatta-2024-reunion-des-benevoles/
LOCATION:Palais Neptune\, Av. de Besagne\, TOULON\, 83000\, France
CATEGORIES:Régates
ATTACH;FMTTYPE=image/jpeg:https://www.cnmt.fr/wp-content/uploads/2024/02/1702759486307.jpg
END:VEVENT
END:VCALENDAR