BEGIN:VCALENDAR
VERSION:2.0
PRODID:-//CNMT - ECPv6.15.20//NONSGML v1.0//EN
CALSCALE:GREGORIAN
METHOD:PUBLISH
X-WR-CALNAME:CNMT
X-ORIGINAL-URL:https://www.cnmt.fr
X-WR-CALDESC:Évènements pour CNMT
REFRESH-INTERVAL;VALUE=DURATION:PT1H
X-Robots-Tag:noindex
X-PUBLISHED-TTL:PT1H
BEGIN:VTIMEZONE
TZID:Europe/Paris
BEGIN:DAYLIGHT
TZOFFSETFROM:+0100
TZOFFSETTO:+0200
TZNAME:CEST
DTSTART:20230326T010000
END:DAYLIGHT
BEGIN:STANDARD
TZOFFSETFROM:+0200
TZOFFSETTO:+0100
TZNAME:CET
DTSTART:20231029T010000
END:STANDARD
BEGIN:DAYLIGHT
TZOFFSETFROM:+0100
TZOFFSETTO:+0200
TZNAME:CEST
DTSTART:20240331T010000
END:DAYLIGHT
BEGIN:STANDARD
TZOFFSETFROM:+0200
TZOFFSETTO:+0100
TZNAME:CET
DTSTART:20241027T010000
END:STANDARD
BEGIN:DAYLIGHT
TZOFFSETFROM:+0100
TZOFFSETTO:+0200
TZNAME:CEST
DTSTART:20250330T010000
END:DAYLIGHT
BEGIN:STANDARD
TZOFFSETFROM:+0200
TZOFFSETTO:+0100
TZNAME:CET
DTSTART:20251026T010000
END:STANDARD
END:VTIMEZONE
BEGIN:VEVENT
DTSTART;TZID=Europe/Paris:20240130T103000
DTEND;TZID=Europe/Paris:20240130T133000
DTSTAMP:20260421T034751
CREATED:20240102T085035Z
LAST-MODIFIED:20240110T193358Z
UID:17190-1706610600-1706621400@www.cnmt.fr
SUMMARY:Assemblée Annuelle du CNMT à l'Escale Amiral Ronarc'h
DESCRIPTION:L’Assemblée se tiendra en salle Surcouf de l’Escale Amiral Ronarc’h (Ancien Foyer du Marin).
URL:https://www.cnmt.fr/evenement/assemblee-annuelle-du-cnmt-a-lescale-ronarch/
LOCATION:Escale Amiral Ronarc’h\, 1 Av. Amiral Aube\, Toulon\, 83000\, France
CATEGORIES:Assemblée Générale
END:VEVENT
END:VCALENDAR