BEGIN:VCALENDAR
VERSION:2.0
PRODID:-//CNMT - ECPv6.15.20//NONSGML v1.0//EN
CALSCALE:GREGORIAN
METHOD:PUBLISH
X-WR-CALNAME:CNMT
X-ORIGINAL-URL:https://www.cnmt.fr
X-WR-CALDESC:Évènements pour CNMT
REFRESH-INTERVAL;VALUE=DURATION:PT1H
X-Robots-Tag:noindex
X-PUBLISHED-TTL:PT1H
BEGIN:VTIMEZONE
TZID:Europe/Paris
BEGIN:DAYLIGHT
TZOFFSETFROM:+0100
TZOFFSETTO:+0200
TZNAME:CEST
DTSTART:20220327T010000
END:DAYLIGHT
BEGIN:STANDARD
TZOFFSETFROM:+0200
TZOFFSETTO:+0100
TZNAME:CET
DTSTART:20221030T010000
END:STANDARD
BEGIN:DAYLIGHT
TZOFFSETFROM:+0100
TZOFFSETTO:+0200
TZNAME:CEST
DTSTART:20230326T010000
END:DAYLIGHT
BEGIN:STANDARD
TZOFFSETFROM:+0200
TZOFFSETTO:+0100
TZNAME:CET
DTSTART:20231029T010000
END:STANDARD
BEGIN:DAYLIGHT
TZOFFSETFROM:+0100
TZOFFSETTO:+0200
TZNAME:CEST
DTSTART:20240331T010000
END:DAYLIGHT
BEGIN:STANDARD
TZOFFSETFROM:+0200
TZOFFSETTO:+0100
TZNAME:CET
DTSTART:20241027T010000
END:STANDARD
BEGIN:DAYLIGHT
TZOFFSETFROM:+0100
TZOFFSETTO:+0200
TZNAME:CEST
DTSTART:20250330T010000
END:DAYLIGHT
BEGIN:STANDARD
TZOFFSETFROM:+0200
TZOFFSETTO:+0100
TZNAME:CET
DTSTART:20251026T010000
END:STANDARD
END:VTIMEZONE
BEGIN:VEVENT
DTSTART;TZID=Europe/Paris:20231229T080000
DTEND;TZID=Europe/Paris:20240102T170000
DTSTAMP:20260421T065439
CREATED:20231126T213812Z
LAST-MODIFIED:20231126T213812Z
UID:16766-1703836800-1704214800@www.cnmt.fr
SUMMARY:Rendez-vous à Porquerolles (ou aux Embiez) pour la Saint Sylvestre
DESCRIPTION:COMMUNICATION POUR LA SAINT SYLVESTRE
URL:https://www.cnmt.fr/evenement/rendez-vous-a-porquerolles-ou-aux-embiez-pour-la-saint-sylvestre/
CATEGORIES:Aventures Nautiques
END:VEVENT
END:VCALENDAR