BEGIN:VCALENDAR
VERSION:2.0
PRODID:-//CNMT - ECPv6.15.20//NONSGML v1.0//EN
CALSCALE:GREGORIAN
METHOD:PUBLISH
X-WR-CALNAME:CNMT
X-ORIGINAL-URL:https://www.cnmt.fr
X-WR-CALDESC:Évènements pour CNMT
REFRESH-INTERVAL;VALUE=DURATION:PT1H
X-Robots-Tag:noindex
X-PUBLISHED-TTL:PT1H
BEGIN:VTIMEZONE
TZID:Europe/Paris
BEGIN:DAYLIGHT
TZOFFSETFROM:+0100
TZOFFSETTO:+0200
TZNAME:CEST
DTSTART:20220327T010000
END:DAYLIGHT
BEGIN:STANDARD
TZOFFSETFROM:+0200
TZOFFSETTO:+0100
TZNAME:CET
DTSTART:20221030T010000
END:STANDARD
BEGIN:DAYLIGHT
TZOFFSETFROM:+0100
TZOFFSETTO:+0200
TZNAME:CEST
DTSTART:20230326T010000
END:DAYLIGHT
BEGIN:STANDARD
TZOFFSETFROM:+0200
TZOFFSETTO:+0100
TZNAME:CET
DTSTART:20231029T010000
END:STANDARD
BEGIN:DAYLIGHT
TZOFFSETFROM:+0100
TZOFFSETTO:+0200
TZNAME:CEST
DTSTART:20240331T010000
END:DAYLIGHT
BEGIN:STANDARD
TZOFFSETFROM:+0200
TZOFFSETTO:+0100
TZNAME:CET
DTSTART:20241027T010000
END:STANDARD
END:VTIMEZONE
BEGIN:VEVENT
DTSTART;TZID=Europe/Paris:20231013T080000
DTEND;TZID=Europe/Paris:20231015T170000
DTSTAMP:20260421T101927
CREATED:20230915T181413Z
LAST-MODIFIED:20230915T181906Z
UID:14443-1697184000-1697389200@www.cnmt.fr
SUMMARY:WEEK-END AUX EMBIEZ : 13 AU 15 OCTOBRE
DESCRIPTION:WEEK-END aux EMBIEZ :  13 au 15 octobre 2023 \n \n 
URL:https://www.cnmt.fr/evenement/week-end-aux-embiez-13-au-15-octobre/
CATEGORIES:Aventures Nautiques
ATTACH;FMTTYPE=image/jpeg:https://www.cnmt.fr/wp-content/uploads/2023/09/UA6S-Tkz97ck.jpg
END:VEVENT
END:VCALENDAR