BEGIN:VCALENDAR
VERSION:2.0
PRODID:-//CNMT - ECPv6.15.20//NONSGML v1.0//EN
CALSCALE:GREGORIAN
METHOD:PUBLISH
X-ORIGINAL-URL:https://www.cnmt.fr
X-WR-CALDESC:Évènements pour CNMT
REFRESH-INTERVAL;VALUE=DURATION:PT1H
X-Robots-Tag:noindex
X-PUBLISHED-TTL:PT1H
BEGIN:VTIMEZONE
TZID:Europe/Paris
BEGIN:DAYLIGHT
TZOFFSETFROM:+0100
TZOFFSETTO:+0200
TZNAME:CEST
DTSTART:20220327T010000
END:DAYLIGHT
BEGIN:STANDARD
TZOFFSETFROM:+0200
TZOFFSETTO:+0100
TZNAME:CET
DTSTART:20221030T010000
END:STANDARD
BEGIN:DAYLIGHT
TZOFFSETFROM:+0100
TZOFFSETTO:+0200
TZNAME:CEST
DTSTART:20230326T010000
END:DAYLIGHT
BEGIN:STANDARD
TZOFFSETFROM:+0200
TZOFFSETTO:+0100
TZNAME:CET
DTSTART:20231029T010000
END:STANDARD
BEGIN:DAYLIGHT
TZOFFSETFROM:+0100
TZOFFSETTO:+0200
TZNAME:CEST
DTSTART:20240331T010000
END:DAYLIGHT
BEGIN:STANDARD
TZOFFSETFROM:+0200
TZOFFSETTO:+0100
TZNAME:CET
DTSTART:20241027T010000
END:STANDARD
END:VTIMEZONE
BEGIN:VEVENT
DTSTART;TZID=Europe/Paris:20230929T180000
DTEND;TZID=Europe/Paris:20230929T200000
DTSTAMP:20260421T102422
CREATED:20230925T183023Z
LAST-MODIFIED:20230925T183023Z
UID:14535-1696010400-1696017600@www.cnmt.fr
SUMMARY:4ème AFTERWORK de la saison & Allocution de rentrée par le Président
DESCRIPTION:Chers membres\,\n\n Le Club vous invite à venir partager\, vendredi 29 septembre\, un moment de convivialité autour d’un pot\, bières pression ou soft\, à la fin de la journée dite de travail. \n\n\nA cette occasion le Président du Club vous présentera :\n– les grands travaux réalisés lors de la saison sportive écoulée;\n– les évènements connus à venir.\n\nCordialement\,\n\n\nLe Directeur
URL:https://www.cnmt.fr/evenement/4eme-afterwork-de-la-saison-allocution-de-rentree-par-le-president/
CATEGORIES:Animation
END:VEVENT
END:VCALENDAR